BEGIN:VCALENDAR
VERSION:2.0
PRODID:-//Double Branch CDD - ECPv6.15.20//NONSGML v1.0//EN
CALSCALE:GREGORIAN
METHOD:PUBLISH
X-WR-CALNAME:Double Branch CDD
X-ORIGINAL-URL:https://doublebranchcdd.com
X-WR-CALDESC:Events for Double Branch CDD
REFRESH-INTERVAL;VALUE=DURATION:PT1H
X-Robots-Tag:noindex
X-PUBLISHED-TTL:PT1H
BEGIN:VTIMEZONE
TZID:UTC
BEGIN:STANDARD
TZOFFSETFROM:+0000
TZOFFSETTO:+0000
TZNAME:UTC
DTSTART:20170101T000000
END:STANDARD
END:VTIMEZONE
BEGIN:VEVENT
DTSTART;TZID=UTC:20181105T160000
DTEND;TZID=UTC:20181105T160000
DTSTAMP:20260424T040103
CREATED:20181030T211359Z
LAST-MODIFIED:20181030T211359Z
UID:7396-1541433600-1541433600@doublebranchcdd.com
SUMMARY:CDD Meeting
DESCRIPTION:
URL:https://doublebranchcdd.com/event/cdd-meeting-2
END:VEVENT
BEGIN:VEVENT
DTSTART;TZID=UTC:20181015T160000
DTEND;TZID=UTC:20181015T160000
DTSTAMP:20260424T040103
CREATED:20181030T211357Z
LAST-MODIFIED:20181030T211357Z
UID:7395-1539619200-1539619200@doublebranchcdd.com
SUMMARY:CDD Meeting
DESCRIPTION:
URL:https://doublebranchcdd.com/event/cdd-meeting
END:VEVENT
END:VCALENDAR